BEGIN:VCALENDAR
VERSION:2.0
PRODID:-//Within Christ Ministry - ECPv6.15.20//NONSGML v1.0//EN
CALSCALE:GREGORIAN
METHOD:PUBLISH
X-ORIGINAL-URL:https://withinchristministry.org
X-WR-CALDESC:Events for Within Christ Ministry
REFRESH-INTERVAL;VALUE=DURATION:PT1H
X-Robots-Tag:noindex
X-PUBLISHED-TTL:PT1H
BEGIN:VTIMEZONE
TZID:America/New_York
BEGIN:DAYLIGHT
TZOFFSETFROM:-0500
TZOFFSETTO:-0400
TZNAME:EDT
DTSTART:20250309T070000
END:DAYLIGHT
BEGIN:STANDARD
TZOFFSETFROM:-0400
TZOFFSETTO:-0500
TZNAME:EST
DTSTART:20251102T060000
END:STANDARD
BEGIN:DAYLIGHT
TZOFFSETFROM:-0500
TZOFFSETTO:-0400
TZNAME:EDT
DTSTART:20260308T070000
END:DAYLIGHT
BEGIN:STANDARD
TZOFFSETFROM:-0400
TZOFFSETTO:-0500
TZNAME:EST
DTSTART:20261101T060000
END:STANDARD
BEGIN:DAYLIGHT
TZOFFSETFROM:-0500
TZOFFSETTO:-0400
TZNAME:EDT
DTSTART:20270314T070000
END:DAYLIGHT
BEGIN:STANDARD
TZOFFSETFROM:-0400
TZOFFSETTO:-0500
TZNAME:EST
DTSTART:20271107T060000
END:STANDARD
END:VTIMEZONE
BEGIN:VEVENT
DTSTART;TZID=America/New_York:20260606T100000
DTEND;TZID=America/New_York:20260606T140000
DTSTAMP:20260425T154034
CREATED:20200802T163933Z
LAST-MODIFIED:20251207T132722Z
UID:692-1780740000-1780754400@withinchristministry.org
SUMMARY:Homeless Outreach - Summer Clothes
DESCRIPTION:On June 6th\, the W.C.M. Team will meet at 9:30 am\, unless needed earlier\, and Guest volunteers will meet at 10:00 am at our residence.  Van Departure will be at 10:30 am
URL:https://withinchristministry.org/event/homeless-outreach-cancelled-due-to-covid-19/
LOCATION:Within-Christ Ministry\, 3211 Napper Road\, ALEXANDRIA\, VA\, 22306\, United States
CATEGORIES:Outreach
ATTACH;FMTTYPE=image/jpeg:https://withinchristministry.org/wp-content/uploads/2020/06/IMG_8291-1-e1596910049387.jpg
ORGANIZER;CN="Ursula":MAILTO:wcm_ubirch@verizon.net
END:VEVENT
END:VCALENDAR